BEGIN:VCALENDAR
VERSION:2.0
PRODID:-//Eventin//Event Calendar//EN
CALSCALE:GREGORIAN
METHOD:PUBLISH
BEGIN:VEVENT
UID:161165bd4ff9ec79de08e26dbced26a8@www.championcowboychurch.com
SUMMARY:Recognizing Graduating Seniors
DESCRIPTION:Wednesday June 3rd 6:30 pm
LOCATION:Champion Cowboy Church
DTSTAMP:20260423T142118Z
DTSTART:20260603T233000Z
DTEND:20260604T003000Z
END:VEVENT
END:VCALENDAR
