BEGIN:VCALENDAR
VERSION:2.0
PRODID:-//Eventin//Event Calendar//EN
CALSCALE:GREGORIAN
METHOD:PUBLISH
BEGIN:VEVENT
UID:16961f35a28ea1dd488ca8329e9a342e@www.championcowboychurch.com
SUMMARY:Ramen Noodle Food Drive
DESCRIPTION:April 19 - May 17th
LOCATION:Victory Church
DTSTAMP:20260423T142548Z
DTSTART:20260517T130000Z
DTEND:20260517T220000Z
END:VEVENT
END:VCALENDAR
